BEGIN:VCALENDAR
PRODID:NingEventWidget-v1
VERSION:2.0
METHOD:PUBLISH
BEGIN:VEVENT
UID:4320450:Event:170919
DTSTAMP:20260425T111642Z
SUMMARY:Center for Art in Wood presents Deirdre Visser Book Signing an
 d Speaking Event
DESCRIPTION:Join the Center for Art in Wood for a chance to meet with 
 curator, educator, artist, and author Deirdre Visser. Deirdre will be 
 at the Center to discuss her groundbreaking new book, Joinery, Joists
 , and Gender: A History of Woodworking for the 21st Century. Deirdre w
 ill host an open discussion and sign books, while sharing her wide-ran
 ging experiences and works, including the development of the Center fo
 r Art in Wood exhibition Making a Seat at the Table: Women Transform 
 Woodworking (2019). Don’t miss this amazing opportunity to meet Dei
 rdre Visser and learn about the ways she is righting woodcraft history
  by documenting the many roles women and non-binary woodworkers have h
 eld in the shop, while committing to equity, economics, sustainability
 , and community in this field.\n\nFor more information visit http://ph
 illytodo.com/events/center-for-art-in-wood-presents-deirdre-visser-boo
 k-signing-and
DTSTART:20220526T220000Z
DTEND:20220526T233000Z
CATEGORIES:book, signing, event
LOCATION:The Center for Art in Wood
WEBSITE:https://bit.ly/3y7EPUk
URL:https://bit.ly/3y7EPUk
CONTACT:215-923-8000
ORGANIZER;CN="En Route Marketing":http://phillytodo.com/profile/EnRout
 eMarketing
ATTACH;FMTTYPE="image/jpeg":https://storage.ning.com/topology/rest/1.0
 /file/get/10454636483?profile=original
ATTENDEE;ROLE=REQ-PARTICIPANT;PARTSTAT=ACCEPTED;RSVP=TRUE;CN="En Route
  Marketing":http://phillytodo.com/profile/EnRouteMarketing
END:VEVENT
END:VCALENDAR
