BEGIN:VCALENDAR
PRODID:NingEventWidget-v1
VERSION:2.0
METHOD:PUBLISH
BEGIN:VEVENT
UID:4320450:Event:170506
DTSTAMP:20260425T161351Z
SUMMARY:Center for Art in Wood &amp; NextFab presents Gallery Talk wit
 h Winter Residency Fellow Robert Aiosa
DESCRIPTION:Join the Center for Art in Wood for a gallery talk with th
 e 2022 Winter Residency Fellow Robert Aiosa, where they will discuss h
 is exhibition of work created over the two-month-long program. Aiosaâ€
 ™s work explores the built environment and its social, economic, and e
 nvironmental impacts. During his residency, Aiosa designed a body of w
 ork inspired by historical window designs, such as fanlights, transom 
 windows, and spider web muntins. The Winter Residency Program is a col
 laboration between the Center and NextFab and is designed for artists 
 in the Greater Philadelphia region who work in the medium of wood. Aio
 saâ€™s exhibition will be on display at NextFabâ€™s North Philadelphia
  location from March 4 to May 22, 2022.Â \n\nFor more information visi
 t http://phillytodo.com/events/center-for-art-in-wood-amp-nextfab-pres
 ents-gallery-talk-with
DTSTART:20220310T233000Z
DTEND:20220311T003000Z
CATEGORIES:virtual, discussion
LOCATION:The Center for Art in Wood
WEBSITE:https://centerforartinwood.org/event/gallery-talk-with-winter-
 residency-fellow-robert-aiosa/
URL:https://centerforartinwood.org/event/gallery-talk-with-winter-resi
 dency-fellow-robert-aiosa/
CONTACT:215-923-8000
ORGANIZER:En Route Marketing
ATTACH;FMTTYPE="image/jpeg":https://storage.ning.com/topology/rest/1.0
 /file/get/10148196494?profile=original
ATTENDEE;ROLE=REQ-PARTICIPANT;PARTSTAT=ACCEPTED;RSVP=TRUE;CN="Bryan Ch
 an":http://phillytodo.com/profile/BryanChan
END:VEVENT
END:VCALENDAR
