BEGIN:VCALENDAR
PRODID:NingEventWidget-v1
VERSION:2.0
METHOD:PUBLISH
BEGIN:VEVENT
UID:4320450:Event:56329
DTSTAMP:20260425T141428Z
SUMMARY:Center City West Drop-in Meditation Class
DESCRIPTION:Everyone wishes to be happy all the time, but we cannot ac
 hieve this goal unless we attain lasting inner peace. In this class, w
 e will learn basic meditation techniques and Buddhist advice that can 
 help us to become happy and peaceful from within. Each class includes 
 two guided meditations and a teaching on a Buddhist topic.\nTaught by 
 meditation teacher, Sarah Frew.\nThursday evenings, starting on Novemb
 er 15th.\nEveryone is welcome. No meditation experience is necessary.\
 n\nSarah is a senior student at KMC Philadelphia and teaches General P
 rogram classes. Through her joyful and engaging manner, she shares Bud
 dha’s teachings in a kind-hearted and warm way. She was trained as a
  scientist and works as a strategy consultant.\n\nFor more information
  visit http://phillytodo.com/events/center-city-west-drop-in-meditatio
 n-class
DTSTART:20181207T000000Z
DTEND:20181207T010000Z
CATEGORIES:meditation, buddhism, mindfulness, wellness, buddhist
LOCATION:Markward Playground Clubhouse
WEBSITE:http://www.meditationinphiladelphia.org/thursday-evenings-in-c
 enter-city-west/
URL:http://www.meditationinphiladelphia.org/thursday-evenings-in-cente
 r-city-west/
CONTACT:267-702-3817
ORGANIZER;CN="Education Program Coordinator":http://phillytodo.com/pro
 file/EducationProgramCoordinator
ATTACH;FMTTYPE="image/jpeg":http://storage.ning.com/topology/rest/1.0/
 file/get/3055016259?profile=original
ATTENDEE;ROLE=REQ-PARTICIPANT;PARTSTAT=ACCEPTED;RSVP=TRUE;CN="Educatio
 n Program Coordinator":http://phillytodo.com/profile/EducationProgramC
 oordinator
END:VEVENT
END:VCALENDAR
