BEGIN:VCALENDAR
PRODID:NingEventWidget-v1
VERSION:2.0
METHOD:PUBLISH
BEGIN:VEVENT
UID:4320450:Event:49934
DTSTAMP:20260425T143439Z
SUMMARY:Center City District Sips Style
DESCRIPTION:The highly-anticipated Center City District Sips summer se
 ason is back with style. Treat yourself this summer and take advantage
  of special Sips promotions offered by over 25 different retailers in
  the Center City. Vendors include local salons, popular fashion retail
 ers, and more! Plus, enter to win a Center City District Shopping Spr
 ee using the  hashtag #CCDSipsStyle. Occurs every Wednesday June 7th
 , 2017 - August 30th, 2017\n\nFor more information visit http://philly
 todo.com/events/center-city-district-sips-style
DTSTART:20170607T210000Z
DTEND:20170607T230000Z
CATEGORIES:shopping
LOCATION:Various Locations
WEBSITE:https://www.centercityphila.org/explore-center-city/ccdsips-st
 yle-guide
URL:https://www.centercityphila.org/explore-center-city/ccdsips-style-
 guide
CONTACT:
ORGANIZER:Center City District
ATTACH;FMTTYPE="image/jpeg":http://storage.ning.com/topology/rest/1.0/
 file/get/3055003883?profile=original
ATTENDEE;ROLE=REQ-PARTICIPANT;PARTSTAT=ACCEPTED;RSVP=TRUE;CN=CashmanAs
 soc:http://phillytodo.com/profile/CashmanAssoc
END:VEVENT
END:VCALENDAR
