BEGIN:VCALENDAR
PRODID:NingEventWidget-v1
VERSION:2.0
METHOD:PUBLISH
BEGIN:VEVENT
UID:4320450:Event:49760
DTSTAMP:20260425T144426Z
SUMMARY:Center City District Sips Preview Party
DESCRIPTION:The highly-anticipated, Center City District Sips season i
 s back with style! Kick off the summer at the official CCD Sips Previe
 w Party, one week early at Marathon Grill with $5 cocktails featuring 
 Effen Blood Orange or Effen Green Apple Vodka, $4 wine, $3 beer and ha
 lf-priced appetizers. Plus, help launch the official CCD Sips Style Gu
 ide, featuring fashion giveaways, sales and promotions from participat
 ing Center City retailers. \n\nFor more information visit http://phil
 lytodo.com/events/center-city-district-sips-preview-party
DTSTART:20170531T210000Z
DTEND:20170531T230000Z
CATEGORIES:event
LOCATION:Marathon Grill
WEBSITE:https://www.centercityphila.org/explore-center-city/ccdsips
URL:https://www.centercityphila.org/explore-center-city/ccdsips
CONTACT:
ORGANIZER;CN=CashmanAssoc:http://phillytodo.com/profile/CashmanAssoc
ATTACH;FMTTYPE="image/jpeg":http://storage.ning.com/topology/rest/1.0/
 file/get/3055003644?profile=original
ATTENDEE;ROLE=REQ-PARTICIPANT;PARTSTAT=ACCEPTED;RSVP=TRUE;CN=CashmanAs
 soc:http://phillytodo.com/profile/CashmanAssoc
END:VEVENT
END:VCALENDAR
