BEGIN:VCALENDAR
PRODID:NingEventWidget-v1
VERSION:2.0
METHOD:PUBLISH
BEGIN:VEVENT
UID:4320450:Event:38310
DTSTAMP:20260425T125828Z
SUMMARY:Center City District's Restaurant Week
DESCRIPTION:This September’s Restaurant Week will showcase more than
  120 restaurants offering signature three-course dinners for only $35.
 00 per person with select restaurants additionally featuring a three-c
 ourse lunch for $20.00 per guest.\n\nFor more information visit http:/
 /phillytodo.com/events/center-city-district-s-restaurant-week
DTSTART:20140907T160000Z
DTEND:20140920T030000Z
CATEGORIES:restaurants, and, dining
LOCATION:Center City
WEBSITE:http://www.centercityphila.org/life/RestaurantWeek.php
URL:http://www.centercityphila.org/life/RestaurantWeek.php
CONTACT:
ORGANIZER;CN=CashmanAssoc:http://phillytodo.com/profile/CashmanAssoc
ATTACH;FMTTYPE="image/jpeg":
ATTENDEE;ROLE=REQ-PARTICIPANT;PARTSTAT=ACCEPTED;RSVP=TRUE;CN=CashmanAs
 soc:http://phillytodo.com/profile/CashmanAssoc
END:VEVENT
END:VCALENDAR
