BEGIN:VCALENDAR
PRODID:NingEventWidget-v1
VERSION:2.0
METHOD:PUBLISH
BEGIN:VEVENT
UID:4320450:Event:58768
DTSTAMP:20260425T113220Z
SUMMARY:Celebrating 200 Years of Judge William Lewis's Legacy
DESCRIPTION:Historic Strawberry Mansion, the largest of the Fairmount 
 Park Historic Houses, celebrates the 200thanniversary of Judge William
  Lewis’s(d. August 16, 1819) legacy with reduced admission, storytel
 ling, and fruit picking.\nHeld over two days, the fête will give visi
 tors an opportunity to explore Lewis’s legal work on behalf of freed
 om-seeking African Americans, his contributions towards the 1780 “Ac
 t for the Gradual Abolition of Slavery,” and Philadelphia’s role a
 s a liberating place for freedom seekers.\n\nFor more information visi
 t http://phillytodo.com/events/celebrating-200-years-of-judge-william-
 lewis-s-legacy
DTSTART:20190816T140000Z
DTEND:20190816T200000Z
CATEGORIES:party
LOCATION:Historic Strawberry Mansion
WEBSITE:
URL:
CONTACT:
ORGANIZER;CN="Bryan Chan":http://phillytodo.com/profile/BryanChan
ATTACH;FMTTYPE="image/jpeg":https://storage.ning.com/topology/rest/1.0
 /file/get/3403069758?profile=original
ATTENDEE;ROLE=REQ-PARTICIPANT;PARTSTAT=ACCEPTED;RSVP=TRUE;CN="Bryan Ch
 an":http://phillytodo.com/profile/BryanChan
END:VEVENT
END:VCALENDAR
