BEGIN:VCALENDAR
PRODID:NingEventWidget-v1
VERSION:2.0
METHOD:PUBLISH
BEGIN:VEVENT
UID:4320450:Event:24608
DTSTAMP:20260425T161702Z
SUMMARY:Celebrate Valentine's Day at Sullivan's Steakhouse of King of 
 Prussia
DESCRIPTION:Sullivan’s Steakhouse of King of Prussia provides the pe
 rfect dining destination for couples to celebrate Valentine's Day. Ava
 ilable February 11-14, Sullivan's of King of Prussia is offering a thr
 ee-course dinner for two for $89, including one starter, entree, side 
 and dessert per person.\n\nFor more information visit http://phillytod
 o.com/events/celebrate-valentine-s-day-at-sullivan-s-steakhouse-of-kin
 g-of
DTSTART:20120211T220000Z
DTEND:20120215T040000Z
CATEGORIES:holiday, dinner, special
LOCATION:Sullivan's Steakhouse of King of Prussia
WEBSITE:http://sullivansteakhouse.com/king_of_prussia-details.php
URL:http://sullivansteakhouse.com/king_of_prussia-details.php
CONTACT:610-878-9025
ORGANIZER:Neff Associates
ATTACH;FMTTYPE="image/jpeg":http://storage.ning.com/topology/rest/1.0/
 file/get/3054958352?profile=original
ATTENDEE;ROLE=REQ-PARTICIPANT;PARTSTAT=ACCEPTED;RSVP=TRUE;CN="Lauren W
 enzel":http://phillytodo.com/profile/JacklinRhoads
END:VEVENT
END:VCALENDAR
