BEGIN:VCALENDAR
PRODID:NingEventWidget-v1
VERSION:2.0
METHOD:PUBLISH
BEGIN:VEVENT
UID:4320450:Event:36957
DTSTAMP:20260425T173949Z
SUMMARY:Celebrate Patrick Kelly: Runway of Love
DESCRIPTION:Come celebrate Patrick Kelly: Runway of Love featuring acc
 essories created by the Philadelphia Fashion Incubator's Designers-in-
 Residence. Runway of Love showcases Patrick Kelly’s culturally inspi
 red collections from the 80s. Enjoy a cash bar, live music from DJ Bro
 adzilla and Anthony Campuzano and prizes and giveaways.\n Free Admiss
 ion!\nRSVP to \nhttp://www.eventbrite.com/e/celebrate-patrick-kelly-t
 ickets-8570908819?aff=fashionincubators\n\nFor more information visit 
 http://phillytodo.com/events/celebrate-patrick-kelly-runway-of-love
DTSTART:20140530T220000Z
DTEND:20140531T000000Z
CATEGORIES:fashion
LOCATION:Philadelphia Museum of Art- Perelman Building
WEBSITE:http://www.eventbrite.com/e/celebrate-patrick-kelly-tickets-85
 70908819?aff=fashionincubators
URL:http://www.eventbrite.com/e/celebrate-patrick-kelly-tickets-857090
 8819?aff=fashionincubators
CONTACT:
ORGANIZER:
ATTACH;FMTTYPE="image/jpeg":http://storage.ning.com/topology/rest/1.0/
 file/get/3054979769?profile=original
ATTENDEE;ROLE=REQ-PARTICIPANT;PARTSTAT=ACCEPTED;RSVP=TRUE;CN=CashmanAs
 soc:http://phillytodo.com/profile/CashmanAssoc
END:VEVENT
END:VCALENDAR
