BEGIN:VCALENDAR
PRODID:NingEventWidget-v1
VERSION:2.0
METHOD:PUBLISH
BEGIN:VEVENT
UID:4320450:Event:35160
DTSTAMP:20260425T215827Z
SUMMARY:Celebrate NYE at Positano Coast
DESCRIPTION:Join us on New Year's Eve for a la Carte Dining all evenin
 g long, make your reservation today!\nMenu highlights include: Lobster
  & Crab Bisque, Grilled Artichoke Salad, Zucchini Crabcake, Roasted Ve
 al Tenderloin, Scottish Salmon Limoncello, Herb Crusted Mahi, and Truf
 fle Mashed Potatoes.\nIn addition, we have two celebration options at 
 Positano Coast this New Year's Eve: $100 Per Guest Premium Open Bar Pa
 ckage, 11:00 pm to 2:00 am with VIP Reserved Seating in Sopra Lounge. 
 Also Includes: DJ ~ Party Favors ~ Coat Check ~ Mini Desserts ~ Prosec
 co Bottle Toast at Midnight (for every 4 guests) ~ Access to Servers &
  Private Bar *VIP Package must be reserved ahead of time by calling th
 e restaurant 215-238-0499\nOR $20 Cover ~ Dress to Impress! Limited sp
 ace available for New Year's Eve, entrance not guaranteed ~ Cash Bar ~
  DJ ~ Party Favors ~ Coat Check\nFireworks are on Penn's Landing at 6p
 m and Midnight, which is within walking distance from Positano Coast.\
 nNew Year's Day Open at 4 pm.\n*Positano Coast will be closed for Lunc
 h on New Year's Eve.\n\nFor more information visit http://phillytodo.c
 om/events/celebrate-nye-at-positano-coast
DTSTART:20131231T210000Z
DTEND:20140101T070000Z
CATEGORIES:new, years, eve
LOCATION:Positano Coast by Aldo Lamberti
WEBSITE:http://www.positanocoast.net
URL:http://www.positanocoast.net
CONTACT:(215)238-0499
ORGANIZER;CN="Positano Coast":http://phillytodo.com/profile/PositanoCo
 ast
ATTACH;FMTTYPE="image/jpeg":http://storage.ning.com/topology/rest/1.0/
 file/get/3054968603?profile=original
ATTENDEE;ROLE=REQ-PARTICIPANT;PARTSTAT=ACCEPTED;RSVP=TRUE;CN="Positano
  Coast":http://phillytodo.com/profile/PositanoCoast
END:VEVENT
END:VCALENDAR
