BEGIN:VCALENDAR
PRODID:NingEventWidget-v1
VERSION:2.0
METHOD:PUBLISH
BEGIN:VEVENT
UID:4320450:Event:47210
DTSTAMP:20260425T143245Z
SUMMARY:Celebrate National Relaxation Day at 3000BC WellMed Spa
DESCRIPTION:Celebrate National Relaxation Day with 3000BC WellMed Spa,
  Philadelphia’s premier Wellness Spa. On Monday, August 15, 2016 rec
 eive 25% off any service, including massages, facials, waxing and much
  more. Book your appointments online at www.3000BCSpa.com or call (215
 ) 247-6020 to take advantage of this limited time offer.\n\n\nFor more
  information visit http://phillytodo.com/events/celebrate-national-rel
 axation-day-at-3000bc-wellmed-spa
DTSTART:20160815T040000Z
DTEND:20160816T035900Z
CATEGORIES:wellness, spa
LOCATION:3000BC WellMed Spa
WEBSITE:http://www.3000bcspa.com
URL:http://www.3000bcspa.com
CONTACT:(215) 247-6020
ORGANIZER;CN=CashmanAssoc:http://phillytodo.com/profile/CashmanAssoc
ATTACH;FMTTYPE="image/jpeg":
ATTENDEE;ROLE=REQ-PARTICIPANT;PARTSTAT=ACCEPTED;RSVP=TRUE;CN=CashmanAs
 soc:http://phillytodo.com/profile/CashmanAssoc
END:VEVENT
END:VCALENDAR
