BEGIN:VCALENDAR
PRODID:NingEventWidget-v1
VERSION:2.0
METHOD:PUBLISH
BEGIN:VEVENT
UID:4320450:Event:49224
DTSTAMP:20260425T143004Z
SUMMARY:Celebrate Liberty USO and Come Hug A Hero!
DESCRIPTION:Join us on Monday, February 13th, as we celebrate the Lib
 erty USO #HugAHero campaign!\nHug a Hero is an amazing program that al
 lows you to send a hug or kiss to an active military service member to
  remind them their bravery and sacrifice for our freedom is appreciate
 d during the week of Valentine’s Day!\nYour donation of $20 gets you
  into this great event, and includes two drink tickets as well as comp
 limentary light fare from Chef Brian Duffy! ALL PROCEEDS BENEFIT THE L
 IBERTY USO!\nPLUS:*Hugging Booth *Games & Prizes*Beer Garden Experien
 ce*Raffle\nSeveral of our Flying Fish Crafthouse team members are he
 roes themselves, and will be wearing Crafthouse shirts with “Hug Me 
 I’m a Hero” on the front. Be sure to give them a hug and thank the
 m for their service while you’re here!\nFor more information about L
 iberty USO and their #hugahero campaign, click HERE!\n\n\nFor more in
 formation visit http://phillytodo.com/events/celebrate-liberty-uso-and
 -come-hug-a-hero
DTSTART:20170213T220000Z
DTEND:20170214T020000Z
CATEGORIES:fundraiser
LOCATION:Flying Fish Crafthouse
WEBSITE:https://goo.gl/7RkH37
URL:https://goo.gl/7RkH37
CONTACT:
ORGANIZER:Flying Fish Crafthouse
ATTACH;FMTTYPE="image/jpeg":http://storage.ning.com/topology/rest/1.0/
 file/get/3055002526?profile=original
ATTENDEE;ROLE=REQ-PARTICIPANT;PARTSTAT=ACCEPTED;RSVP=TRUE;CN="Upcoming
 Events.com":http://phillytodo.com/profile/UpcomingEventscom
END:VEVENT
END:VCALENDAR
