BEGIN:VCALENDAR
PRODID:NingEventWidget-v1
VERSION:2.0
METHOD:PUBLISH
BEGIN:VEVENT
UID:4320450:Event:44946
DTSTAMP:20260425T144722Z
SUMMARY:Celebrate Bob Marley’s Birthday at Hard Rock Cafe
DESCRIPTION:Celebrate the life and music of Bob Marley with Reef’d, 
 The Ella Meno Beat, and Jahmen as they emulate the sounds of Marley in
  a show to remember. A new Bob Marley signature series t-shirt will be
  also be available with 15% of net sales benefitting the City of Hope.
 \n\nFor more information visit http://phillytodo.com/events/celebrate-
 bob-marley-s-birthday-at-hard-rock-cafe
DTSTART:20160213T010000Z
DTEND:20160213T040000Z
CATEGORIES:live, music
LOCATION:Hard Rock Cafe Philadelphia
WEBSITE:
URL:
CONTACT:215-627-1060
ORGANIZER:Hard Rock Cafe Philadelphia
ATTACH;FMTTYPE="image/jpeg":http://storage.ning.com/topology/rest/1.0/
 file/get/3054993606?profile=original
ATTENDEE;ROLE=REQ-PARTICIPANT;PARTSTAT=ACCEPTED;RSVP=TRUE;CN=CashmanAs
 soc:http://phillytodo.com/profile/CashmanAssoc
END:VEVENT
END:VCALENDAR
