BEGIN:VCALENDAR
PRODID:NingEventWidget-v1
VERSION:2.0
METHOD:PUBLISH
BEGIN:VEVENT
UID:4320450:Event:39408
DTSTAMP:20260425T142558Z
SUMMARY:Celebrate 2015 in the 215
DESCRIPTION:The Spring Garden Social Club PresentsCELEBRATE 2015 IN TH
 E 215Philly's Only All-Night New Years Eve PartyWednesday, December 31
 st10pm-6amFeaturing:DJ LEE JONESDJ RONNIE DDJ RICKY LEEGIULIANO PRESTA
 andVERSION 2.0DETAILS:Watch the ball drop live from Times Square on Ze
 e Bar's Giant Projection ScreenEnjoy A Complimentary Champagne Toast A
 t Midnight, Gourmet Hors D'Oeuvres, Continental Breakfast And Party Fa
 vorsTICKET PACKAGESGENERAL ADMISSION$30.00 per personVIP PACKAGE$100.0
 0 per person Top Shelf Party Bar 10PM - 2AMPREMIUM PACKAGE$150.00 pe
 r person Top Shelf Party Bar 10PM - 2AM Premium Seating Choice of 
 one bottle for every four guests from the following selections:Stoli, 
 Jameson, Captain Morgan, or Jose CuervoFOR TICKET PURCHASE LOG ONTO ze
 ecelebrate2015.eventbrite.com FOR INFO PLEASE CALL 215-922-2994 ext 0
  OR E-MAIL CHRISTIE@ZEE-BAR.COMParty with the Best of the Best on NYE 
 -Only at Zee Bar!Best After Hours Club, Best Bottle Service, Best EDM 
 DJ - DJ Ronnie D - 2014 Philadelphia Nightlife AwardsTop Nightlife Des
 tination - 2014 Philadelphia Style -Best Dance Club - 2014 Philly Hot 
 List \n\nFor more information visit http://phillytodo.com/events/cele
 brate-2015-in-the-215
DTSTART:20150101T030000Z
DTEND:20150101T110000Z
CATEGORIES:new, "year's", eve
LOCATION:Zee Bar
WEBSITE:http://www.eventbrite.com/e/celebrate-2015-in-the-215-tickets-
 14637064855
URL:http://www.eventbrite.com/e/celebrate-2015-in-the-215-tickets-1463
 7064855
CONTACT:2159222994
ORGANIZER;CN="UpcomingEvents.com":http://phillytodo.com/profile/Upcomi
 ngEventscom
ATTACH;FMTTYPE="image/jpeg":http://storage.ning.com/topology/rest/1.0/
 file/get/3054985464?profile=original
ATTENDEE;ROLE=REQ-PARTICIPANT;PARTSTAT=ACCEPTED;RSVP=TRUE;CN="Upcoming
 Events.com":http://phillytodo.com/profile/UpcomingEventscom
END:VEVENT
END:VCALENDAR
