BEGIN:VCALENDAR
PRODID:NingEventWidget-v1
VERSION:2.0
METHOD:PUBLISH
BEGIN:VEVENT
UID:4320450:Event:35834
DTSTAMP:20260425T112804Z
SUMMARY:Cedar Point Bar and Kitchen Anniversary Block Party
DESCRIPTION:We're turning 1 so we're having a blow out block party Mar
 di Gras party!\n\n\nMusic:\nJoe from The Lara and Joe Show! the Ambula
 rs, \nMike Bell & the Movies, Mummers, Nona.\n\nMardi gras menu:- al
 ligator on a stick - andioulle sausage corndogs- fried oysters w slaw
  - Okra hush puppies- fried green tomato po boys- catfish po boys- mu
 ffuletta (meat version and veg version)-gumbo- BBQ shrimp and grits- M
 ac and cheese - bananas foster blondies- beignets\n\n\n\nFor more inf
 ormation visit http://phillytodo.com/events/cedar-point-bar-and-kitche
 n-anniversary-block-party
DTSTART:20140301T190000Z
DTEND:20140301T230000Z
CATEGORIES:block, party
LOCATION:Cedar Point Bar and Kitchen
WEBSITE:http://www.cedarpointbarandkitchen.com
URL:http://www.cedarpointbarandkitchen.com
CONTACT:215-423-5400
ORGANIZER;CN="Cedar Point Bar and Kitchen":http://phillytodo.com/profi
 le/CedarPointBarandKitchen
ATTACH;FMTTYPE="image/jpeg":http://storage.ning.com/topology/rest/1.0/
 file/get/3054973275?profile=original
ATTENDEE;ROLE=REQ-PARTICIPANT;PARTSTAT=ACCEPTED;RSVP=TRUE;CN="Cedar Po
 int Bar and Kitchen":http://phillytodo.com/profile/CedarPointBarandKit
 chen
END:VEVENT
END:VCALENDAR
