BEGIN:VCALENDAR
PRODID:NingEventWidget-v1
VERSION:2.0
METHOD:PUBLISH
BEGIN:VEVENT
UID:4320450:Event:42923
DTSTAMP:20260425T124918Z
SUMMARY:Cavanaugh's Halloweekend
DESCRIPTION:Friday and Saturday beginning at 9PM.$2 Rolling Rock P
 ounders$3 Single Wells$4 Red Head Shots$4 Surfer on Acid Shots$5 Mind 
 Erasers$7 MHL Pitchers$8 Malibu BucketsFree Pizza 11-1DJ-10pmPrizes fo
 r best costumes\n\nFor more information visit http://phillytodo.com/ev
 ents/cavanaugh-s-halloweekend
DTSTART:20151031T010000Z
DTEND:20151101T070000Z
CATEGORIES:halloween
LOCATION:Cavanaugh's
WEBSITE:http://www.cavanaughsrestaurant.com
URL:http://www.cavanaughsrestaurant.com
CONTACT:(215) 386-4889
ORGANIZER;CN="UpcomingEvents.com":http://phillytodo.com/profile/Upcomi
 ngEventscom
ATTACH;FMTTYPE="image/jpeg":http://storage.ning.com/topology/rest/1.0/
 file/get/3054990214?profile=original
ATTENDEE;ROLE=REQ-PARTICIPANT;PARTSTAT=ACCEPTED;RSVP=TRUE;CN="Upcoming
 Events.com":http://phillytodo.com/profile/UpcomingEventscom
END:VEVENT
END:VCALENDAR
