BEGIN:VCALENDAR
PRODID:NingEventWidget-v1
VERSION:2.0
METHOD:PUBLISH
BEGIN:VEVENT
UID:4320450:Event:21708
DTSTAMP:20260425T191324Z
SUMMARY:Casting Call for NBC's Love In The Wild
DESCRIPTION:Are you a game changer?\nAre you ready to spice up the sho
 w?\nAre you determined to beat the competition?\nAre you ready to find
  ... LOVE IN THE WILD?\nIf so come to meet the casting director in Per
 son @ Mission Grill. November 27th from 5-8pm\n\nFor more information 
 visit http://phillytodo.com/events/casting-call-for-nbc-s-love-in-the-
 wild
DTSTART:20111117T220000Z
DTEND:20111118T010000Z
CATEGORIES:casting, call
LOCATION:Mission Grill
WEBSITE:http://kasstinginc.com
URL:http://kasstinginc.com
CONTACT:
ORGANIZER;CN="Nichole Jensen":http://phillytodo.com/profile/NicholeJen
 sen
ATTACH;FMTTYPE="image/jpeg":
ATTENDEE;ROLE=REQ-PARTICIPANT;PARTSTAT=ACCEPTED;RSVP=TRUE;CN="Nichole 
 Jensen":http://phillytodo.com/profile/NicholeJensen
END:VEVENT
END:VCALENDAR
