BEGIN:VCALENDAR
PRODID:NingEventWidget-v1
VERSION:2.0
METHOD:PUBLISH
BEGIN:VEVENT
UID:4320450:Event:56254
DTSTAMP:20260425T125000Z
SUMMARY:Casa Noble Educational Seminar
DESCRIPTION:Join M. Brown’s and Casa Noble for an educational tequil
 a seminar lead by Casa Noble Founder José ‘Pepe’ Hermosillo. The 
 event will be followed by a happy hour featuring drink specials and co
 mplimentary light bites.\n\nFor more information visit http://phillyto
 do.com/events/casa-noble-educational-seminar
DTSTART:20180913T200000Z
DTEND:20180913T210000Z
CATEGORIES:class, food, drink
LOCATION:M. Brown's
WEBSITE:https://www.mbrownsbar.com/
URL:https://www.mbrownsbar.com/
CONTACT:2159314260
ORGANIZER;CN=CashmanAssoc:http://phillytodo.com/profile/CashmanAssoc
ATTACH;FMTTYPE="image/jpeg":http://storage.ning.com/topology/rest/1.0/
 file/get/3055015791?profile=original
ATTENDEE;ROLE=REQ-PARTICIPANT;PARTSTAT=ACCEPTED;RSVP=TRUE;CN=CashmanAs
 soc:http://phillytodo.com/profile/CashmanAssoc
END:VEVENT
END:VCALENDAR
