BEGIN:VCALENDAR
PRODID:NingEventWidget-v1
VERSION:2.0
METHOD:PUBLISH
BEGIN:VEVENT
UID:4320450:Event:35209
DTSTAMP:20260425T125037Z
SUMMARY:Carnival GayBINGO!
DESCRIPTION:March 8 – Carnival GayBINGO! – “It’s a Rio Gay-Jan
 eiro celebration!”\n\nThis fun event is open to anyone who enjoys ca
 mpy humor. Cash prizes will be awarded in each game.  Tickets for Gay
 BINGO are on sale at 215-731-9255.  Reserved Seating tickets on the B
 ingo floor are $25. General admission tickets in the balcony are $20.\
 n \nGayBINGO was named Best of Philly (Gay Event), won PGN's Lambda A
 ward for Best Fundraiser, and was the subject of a popular WHYY docume
 ntary.  GayBINGO has also been featured in the LA Times, Washington P
 ost, and USA Today.  The event has raised over $2 million to date.  
 GayBINGO sponsors are ING, Tavern on Camac, Starbucks, Philadelphia We
 ekly, and Philly AIDS Thrift.\n \nAIDS Fund produces a variety of fun
 draising and awareness programs throughout the year, including AIDS Wa
 lk Philly, AIDS Run Philly, GayBINGO!, Black-Tie GayBINGO!, World AIDS
  Day, and Workplace Giving Campaigns.  The AIDS Fund grant program su
 pports partner organizations in the Philadelphia Region that provide A
 IDS and HIV-related services, education, and prevention including incr
 easing public awareness of HIV/AIDS issues.  AIDS Fund is also the Ph
 iladelphia affiliate of The Names Project, curating panels of The AIDS
  Memorial Quilt for a local audience.  The 27th Annual AIDS Walk Phil
 ly will take place on Sunday, October 20, 2013. Contact AIDS Fund at 
 215-731-9255 or www.aidsfundphilly.org. Follow AIDS Fund on Facebook a
 nd Twitter: www.facebook.com/AIDSWalkPhilly, www.facebook.com/gaybingo
 philly, and twitter.com/AIDSWalkPhilly.\n\nFor more information visit 
 http://phillytodo.com/events/carnival-gaybingo
DTSTART:20140308T230000Z
DTEND:20140309T050000Z
CATEGORIES:special, event
LOCATION:Gershman Y
WEBSITE:
URL:
CONTACT:215-731-9255
ORGANIZER;CN="Cari Feiler Bender":http://phillytodo.com/profile/CariFe
 ilerBender
ATTACH;FMTTYPE="image/jpeg":http://storage.ning.com/topology/rest/1.0/
 file/get/3054967562?profile=original
ATTENDEE;ROLE=REQ-PARTICIPANT;PARTSTAT=ACCEPTED;RSVP=TRUE;CN="Cari Fei
 ler Bender":http://phillytodo.com/profile/CariFeilerBender
END:VEVENT
END:VCALENDAR
