BEGIN:VCALENDAR
PRODID:NingEventWidget-v1
VERSION:2.0
METHOD:PUBLISH
BEGIN:VEVENT
UID:4320450:Event:35452
DTSTAMP:20260425T173817Z
SUMMARY:Carnevale at Nunzio Ristorante Rustico
DESCRIPTION:Carnevale in Italy, Italy’s famous version of the “Mar
 di Gras” celebration, is a huge winter festival that is celebrated w
 ith parades, parties and entertainment of all sorts. Experience your o
 wn version of Carnevale at Nunzio’s Ristorante Rustico on Tuesday, M
 arch 4, 2014. Master Chef Nunzio Patruno will be serving up the fine I
 talian fare for a Carnivale Celebration, with reservations beginning a
 t 4:30 p.m.. For further inquiries about this event, please call 856-8
 58-9840 or email nunzios.restaurant@verizon.net.\n\nFor more informati
 on visit http://phillytodo.com/events/carnevale-at-nunzio-ristorante-r
 ustico
DTSTART:20140304T213000Z
DTEND:20140305T003000Z
CATEGORIES:italian, food, celebration
LOCATION:Nunzio Ristorante Rustico
WEBSITE:http://www.nunzios.net
URL:http://www.nunzios.net
CONTACT:856-858-9840
ORGANIZER:Nunzio Ristorante Rustico
ATTACH;FMTTYPE="image/jpeg":
ATTENDEE;ROLE=REQ-PARTICIPANT;PARTSTAT=ACCEPTED;RSVP=TRUE;CN=CashmanAs
 soc:http://phillytodo.com/profile/CashmanAssoc
END:VEVENT
END:VCALENDAR
