BEGIN:VCALENDAR
PRODID:NingEventWidget-v1
VERSION:2.0
METHOD:PUBLISH
BEGIN:VEVENT
UID:4320450:Event:52020
DTSTAMP:20260425T130830Z
SUMMARY:Carlos Mencia at Valley Forge Music Fair
DESCRIPTION:Valley Forge Casino Resort (1160 First Avenue) presents th
 e star of Comedy Central’s hit show Mind of Mencia, funny man Carlos
  Mencia, on Friday, November 10th during Valley Forge Music Fair. Don'
 t miss the chance to see the host of the popular Laughin and Livin pod
 cast play to an intimate crowd in the Venue. Doors will open at 7:00pm
 , with the show starting at 8:00pm. Tickets are on sale now at Ticketm
 aster for $45-$55 each. Room & Show  packages are also available.\n 
 \n\nFor more information visit http://phillytodo.com/events/carlos-men
 cia-at-valley-forge-music-fair-1
DTSTART:20171111T020000Z
DTEND:20171111T040000Z
CATEGORIES:stand, up, comedy, show
LOCATION:The Venue at Valley Forge Casino Resort
WEBSITE:https://www.vfcasino.com/events/carlos-mencia-2/
URL:https://www.vfcasino.com/events/carlos-mencia-2/
CONTACT:610-354-8222
ORGANIZER:Valley Forge Casino Resort
ATTACH;FMTTYPE="image/jpeg":http://storage.ning.com/topology/rest/1.0/
 file/get/3054995177?profile=original
ATTENDEE;ROLE=REQ-PARTICIPANT;PARTSTAT=ACCEPTED;RSVP=TRUE;CN="Aversa P
 R & Events":http://phillytodo.com/profile/KoryAversa277
END:VEVENT
END:VCALENDAR
