BEGIN:VCALENDAR
PRODID:NingEventWidget-v1
VERSION:2.0
METHOD:PUBLISH
BEGIN:VEVENT
UID:4320450:Event:40806
DTSTAMP:20260425T144246Z
SUMMARY:Caribbean Cuisine Week
DESCRIPTION:This year, CCW engages even more of Philadelphia’s fines
 t restaurants with a fun-filled week of food, beverages and music for 
 a good cause - assisting over 700 economically disadvantaged high scho
 ol athletes participate at the Penn Relays. CCW partners with restaura
 nts throughout Center City and the greater Philadelphia region by enco
 uraging the Chefs to prepare and serve Caribbean inspired dishes. The 
 restaurants will donate 5% of all food proceeds from the three-day per
 iod to help bring the students to Philadelphia.\n\nFor more informatio
 n visit http://phillytodo.com/events/caribbean-cuisine-week
DTSTART:20150408T040000Z
DTEND:20150411T035900Z
CATEGORIES:food, and, fundraiser
LOCATION:Center CIty
WEBSITE:http://www.caribbeancuisineweek.com
URL:http://www.caribbeancuisineweek.com
CONTACT:2156257988
ORGANIZER;CN="Skai Blue Media":http://phillytodo.com/profile/SkaiBlueM
 edia
ATTACH;FMTTYPE="image/jpeg":http://storage.ning.com/topology/rest/1.0/
 file/get/3054988588?profile=original
ATTENDEE;ROLE=REQ-PARTICIPANT;PARTSTAT=ACCEPTED;RSVP=TRUE;CN="Skai Blu
 e Media":http://phillytodo.com/profile/SkaiBlueMedia
END:VEVENT
END:VCALENDAR
