BEGIN:VCALENDAR
PRODID:NingEventWidget-v1
VERSION:2.0
METHOD:PUBLISH
BEGIN:VEVENT
UID:4320450:Event:60501
DTSTAMP:20260425T113558Z
SUMMARY:Career Wardrobe’s Hope's Night Out Silver Lining Gala
DESCRIPTION:2020 marks Career Wardrobe's 25th year of providing clothi
 ng and confidence to people transitioning to employment and independen
 ce. And this year we will serve our 100,000th client. To celebrate, Ca
 reer Wardrobe will host Hope's Night Out Silver Lining Gala, on June 3
 , 2020, 5:30-9 pm, at the Ballroom at the Ben (8th & Chestnut.) The ev
 ent includes a cocktail reception, silent auction, party games and a f
 abulous runway show. Tickets start at $150 and sponsorships are availa
 ble.\nhttps://e.givesmart.com/events/flN/\n\nFor more information visi
 t http://phillytodo.com/events/career-wardrobe-s-hope-s-night-out-silv
 er-lining-gala
DTSTART:20200603T213000Z
DTEND:20200604T010000Z
CATEGORIES:fundraiser
LOCATION:Ballroom at the Ben
WEBSITE:https://e.givesmart.com/events/flN/
URL:https://e.givesmart.com/events/flN/
CONTACT:
ORGANIZER:Career Wardrobe
ATTACH;FMTTYPE="image/jpeg":
ATTENDEE;ROLE=REQ-PARTICIPANT;PARTSTAT=ACCEPTED;RSVP=TRUE;CN="Paige Wo
 lf":http://phillytodo.com/profile/PaigeWolf
END:VEVENT
END:VCALENDAR
