BEGIN:VCALENDAR
PRODID:NingEventWidget-v1
VERSION:2.0
METHOD:PUBLISH
BEGIN:VEVENT
UID:4320450:Event:38313
DTSTAMP:20260425T131033Z
SUMMARY:Career Wardrobe Empowering Tea & Fashion Show
DESCRIPTION:Please join Career Wardrobe for its annual Empowering Tea 
 and Fashion Show, Sunday, November 9, 2014 from 1-4 p.m. at Hyatt at t
 he Bellevue. This year’s event is the perfect opportunity for genera
 tions of women to connect over a chic afternoon tea and join Career Wa
 rdrobe in Reclaiming Voices and Renewing Hope for women all over Phila
 delphia. The event will include a fashion show, emceed by 6ABC’s Nyd
 ia Han, featuring The Wardrobe Boutique: A Resale Boutique Benefiting 
 Career Wardrobe, in addition to seven premier fashion partners. Specia
 l celebrity guest speaker actress and producer Alysia Reiner from Oran
 ge is the New Black is scheduled to appear. Tickets for the event star
 t at $80 ($40 for kids 12 and under) and are available at careerwardro
 be.org.\n\nFor more information visit http://phillytodo.com/events/car
 eer-wardrobe-empowering-tea-fashion-show
DTSTART:20141109T180000Z
DTEND:20141109T210000Z
CATEGORIES:fundraiser, tea, and, fashion, show
LOCATION:Hyatt at the Bellevue
WEBSITE:
URL:
CONTACT:215-568-6693
ORGANIZER;CN="Paige Wolf":http://phillytodo.com/profile/PaigeWolf
ATTACH;FMTTYPE="image/jpeg":http://storage.ning.com/topology/rest/1.0/
 file/get/3054979912?profile=original
ATTENDEE;ROLE=REQ-PARTICIPANT;PARTSTAT=ACCEPTED;RSVP=TRUE;CN="Paige Wo
 lf":http://phillytodo.com/profile/PaigeWolf
END:VEVENT
END:VCALENDAR
