BEGIN:VCALENDAR
PRODID:NingEventWidget-v1
VERSION:2.0
METHOD:PUBLISH
BEGIN:VEVENT
UID:4320450:Event:51946
DTSTAMP:20260425T131045Z
SUMMARY:Career Wardrobe Empowering Tea &amp; Fashion Show
DESCRIPTION:Career Wardrobe announces its annual Empowering Tea and F
 ashion Show, Sunday, November 12, 2017 from 12-3 p.m. at Merion Cric
 ket Club (325 Montgomery Ave, Haverford, PA 19041).\nKYW Newsradio’s
  Cherri Gregg will emcee the event, which has distinguished itself as 
 a family-friendly, intimate, and inspiring afternoon shared among gene
 rations. Local sisters Dana Veraldi, founder of Deer Dana and Amanda
  Veraldi, Manager of Corporate for J. Crew, will be the featured speak
 ers, discussing their paths to making names for themselves in the fash
 ion industry. \nTickets for the event start at $80 ($40 for kids 12 a
 nd under). For more information and tickets, please call (215) 568-66
 93 or visit www.careerwardrobe.org.\n\nFor more information visit ht
 tp://phillytodo.com/events/career-wardrobe-empowering-tea-amp-fashion-
 show
DTSTART:20171112T170000Z
DTEND:20171112T200000Z
CATEGORIES:fundraiser
LOCATION:The Merion Cricket Club
WEBSITE:
URL:
CONTACT:
ORGANIZER:Career Wardrobe
ATTACH;FMTTYPE="image/jpeg":http://storage.ning.com/topology/rest/1.0/
 file/get/3055004317?profile=original
ATTENDEE;ROLE=REQ-PARTICIPANT;PARTSTAT=ACCEPTED;RSVP=TRUE;CN="Paige Wo
 lf":http://phillytodo.com/profile/PaigeWolf
END:VEVENT
END:VCALENDAR
