BEGIN:VCALENDAR
PRODID:NingEventWidget-v1
VERSION:2.0
METHOD:PUBLISH
BEGIN:VEVENT
UID:4320450:Event:35517
DTSTAMP:20260425T163114Z
SUMMARY:Career Wardrobe: Empowered 18 Fashion Show + Fundraiser
DESCRIPTION:Career Wardrobe’s thirteenth annual premier fundraising 
 event, A Perfect Fit: Empowered 18 Fashion Show & Fundraiser will be h
 eld Thursday, June 5, 2013 from 6 p.m. to 9 p.m. at Crystal Tea Room, 
 100 E. Penn Square in Philadelphia.\n \nA Perfect Fit is Career Wardr
 obe’s premier fundraising event which last year drew more than 300 s
 upporters and raised nearly $100,000 to support the program.  The cor
 nerstone of the event is a fashion show staring Philadelphia’s corpo
 rate and political leaders along with members of the news media who do
 nate the suit they wear on the runway to help another woman transition
  to work.  The evening will also include a cocktail reception, seated
  dessert, and a spectacular Purse with Purpose silent and live auction
  of one-of-a-kind purses autographed by celebrities and designed by Vi
 v Pickle Custom Handbag Studio.\n \nIndividual tickets must be purcha
 sed in advance for $100, and corporate and individual sponsorship pack
 ages are available. For more information and to purchase tickets, plea
 se call (215) 568-6693 or visit www.careerwardrobe.org.   \n\nFor m
 ore information visit http://phillytodo.com/events/career-wardrobe-emp
 owered-18-fashion-show-fundraiser
DTSTART:20140605T220000Z
DTEND:20140606T010000Z
CATEGORIES:fundraiser
LOCATION:Crystal Tea Room
WEBSITE:
URL:
CONTACT:(215) 568-6693
ORGANIZER:Career Wardrobe
ATTACH;FMTTYPE="image/jpeg":http://storage.ning.com/topology/rest/1.0/
 file/get/3054973634?profile=original
ATTENDEE;ROLE=REQ-PARTICIPANT;PARTSTAT=ACCEPTED;RSVP=TRUE;CN="Paige Wo
 lf":http://phillytodo.com/profile/PaigeWolf
END:VEVENT
END:VCALENDAR
