BEGIN:VCALENDAR
PRODID:NingEventWidget-v1
VERSION:2.0
METHOD:PUBLISH
BEGIN:VEVENT
UID:4320450:Event:40531
DTSTAMP:20260425T160923Z
SUMMARY:Care to Carry On 5K Run and Walk
DESCRIPTION:This spring, a new family-friendly race for a worthy cause
  will bring together hundreds of supporters to the Philadelphia Zoo wi
 th the first annual Care to Carry On 5K Run and Walk benefiting Camp E
 rin®- Philadelphia. The race, which includes free all-day access to t
 he zoo, invites those of all ages to run, walk, hop, skip or jump thei
 r way through the Philadelphia Zoo on April 19, 2015.\nPresented by th
 e Care for the Cure Foundation, the Care to Carry On 5k Run and Walk s
 ets out to raise awareness of children’s grief. All proceeds from th
 e run will help fund the Philadelphia location of The Moyer Foundation
 ’s Camp Erin, the largest network of free bereavement camps in the c
 ountry for children and teens who are grieving a significant loss. \n
 \nFor more information visit http://phillytodo.com/events/care-to-carr
 y-on-5k-run-and-walk
DTSTART:20150419T040000Z
DTEND:20150420T035900Z
CATEGORIES:fundraiser
LOCATION:Philadelphia Zoo
WEBSITE:http://www.signup2raceusa.com/ccrs/c4tc/
URL:http://www.signup2raceusa.com/ccrs/c4tc/
CONTACT:2156271060
ORGANIZER;CN=CashmanAssoc:http://phillytodo.com/profile/CashmanAssoc
ATTACH;FMTTYPE="image/jpeg":http://storage.ning.com/topology/rest/1.0/
 file/get/3054987302?profile=original
ATTENDEE;ROLE=REQ-PARTICIPANT;PARTSTAT=ACCEPTED;RSVP=TRUE;CN=CashmanAs
 soc:http://phillytodo.com/profile/CashmanAssoc
END:VEVENT
END:VCALENDAR
