BEGIN:VCALENDAR
PRODID:NingEventWidget-v1
VERSION:2.0
METHOD:PUBLISH
BEGIN:VEVENT
UID:4320450:Event:1027
DTSTAMP:20260425T112855Z
SUMMARY:\"Cards, Scarves and Emotional Scars\"
DESCRIPTION:We are happy to present \"Cards, Scarves and Emotional Sca
 rs\", a trunk show and craft demonstration featuring two local artists
  whose work addresses the sharper edges of love.\n\nSharif Pendleton i
 s the creator of the \"Emotions Can Be Dangerous\" line of laser-cut j
 ewelry. Its motifs combine Valentine hearts with implements of destruc
 tion. He will be screenprinting Valentine cards for lovers and haters 
 alike.\n\nShera Simon, aka Shesherara, is working on \"Love Him/Hate H
 im\". It's a fashion-design-meets-Valentine project in which she asks 
 women to send her a shirt belonging to a particularly loved or hated m
 an. Shera will slice it up and transform it into her trademark \"girli
 fied gear\", like a frilly scarf, flower pin or handbag. Whether it's 
 done in the spirit of purging or praising the man, you can tell the st
 ory on Shera's blog. Bring one in for her to do in person.\n\nJonathan
  York will play live acoustic jazz guitar. Plus candy! Please join us 
 Saturday, February 13, 12-3 pm.\n\nFor more information visit http://p
 hillytodo.com/events/cards-scarves-and-emotional
DTSTART:20100213T170000Z
DTEND:20100213T200000Z
CATEGORIES:trunk, show, craft, demonstration
LOCATION:West Philadelphia
WEBSITE:http://vixemporium.wordpress.com/2010/02/03/cards-scarves-and-
 emotional-scars/
URL:http://vixemporium.wordpress.com/2010/02/03/cards-scarves-and-emot
 ional-scars/
CONTACT:2154717700
ORGANIZER;CN="VIX Emporium":http://phillytodo.com/profile/VIXEmporium
ATTACH;FMTTYPE="image/jpeg":http://storage.ning.com/topology/rest/1.0/
 file/get/3054945589?profile=original
ATTENDEE;ROLE=REQ-PARTICIPANT;PARTSTAT=ACCEPTED;RSVP=TRUE;CN="VIX Empo
 rium":http://phillytodo.com/profile/VIXEmporium
END:VEVENT
END:VCALENDAR
