BEGIN:VCALENDAR
PRODID:NingEventWidget-v1
VERSION:2.0
METHOD:PUBLISH
BEGIN:VEVENT
UID:4320450:Event:169909
DTSTAMP:20260425T125011Z
SUMMARY:CapitalNOW: Creative Entrepreneur Accelerator
DESCRIPTION:Join CraftNOW and the Greater Philadelphia Cultural Allian
 ce for the latest CapitalNOW session, where artists and makers will le
 arn about the Creative Entrepreneur Accelerator (CEA). The CEA is a pr
 ogram that pairs access to small business consulting services with fin
 ancial resources for creative entrepreneurs. The program is ideal for 
 anyone who either aspires to start their own for-profit business or op
 erates an existing for-profit microbusiness. Attendees will learn abou
 t the CEA’s eligibility guidelines and application process, hear fro
 m The Enterprise Center about what to expect during a referral consult
 ation, and have an opportunity to ask questions about this new funding
  opportunity. CapitalNOW will be hosted by CraftNOW via Zoom on Decemb
 er 7th at 1:00 PM. Advanced registration is required.\n\nFor more info
 rmation visit http://phillytodo.com/events/capitalnow-creative-entrepr
 eneur-accelerator
DTSTART:20211207T180000Z
DTEND:20211207T190000Z
CATEGORIES:zoom, discussion
LOCATION:https://us02web.zoom.us/meeting/register/tZAqc-6upz8tGtxupceD
 hNbZ5TgVoarJiGaW
WEBSITE:https://www.craftnowphila.org/capitalnow/
URL:https://www.craftnowphila.org/capitalnow/
CONTACT:
ORGANIZER:CraftNOW
ATTACH;FMTTYPE="image/jpeg":https://storage.ning.com/topology/rest/1.0
 /file/get/9817294074?profile=original
ATTENDEE;ROLE=REQ-PARTICIPANT;PARTSTAT=ACCEPTED;RSVP=TRUE;CN="Bryan Ch
 an":http://phillytodo.com/profile/BryanChan
END:VEVENT
END:VCALENDAR
