BEGIN:VCALENDAR
PRODID:NingEventWidget-v1
VERSION:2.0
METHOD:PUBLISH
BEGIN:VEVENT
UID:4320450:Event:169402
DTSTAMP:20260425T160231Z
SUMMARY:CapitalNOW and Loans
DESCRIPTION:In this session of the CapitalNOW 2021 series, entrepreneu
 rial craftspeople, designers, artists, and makers will learn how to en
 gage with Community Development Financial Institutions (CDFIs) and Sma
 ll Business Development Centers (SBDCs) to secure the investments need
 ed to pursue opportunities or endure challenges. Register for this eng
 aging conversation on Zoom and tune in on October 27th at 5:30 PM.\n\n
 For more information visit http://phillytodo.com/events/capitalnow-and
 -loans
DTSTART:20211027T213000Z
DTEND:20211027T230000Z
CATEGORIES:zoom
LOCATION:https://us02web.zoom.us/meeting/register/tZwkdu-rqDMvGtJwZ5U5
 5afv_yW4i5eRTkv5%20
WEBSITE:https://www.craftnowphila.org/capitalnow/
URL:https://www.craftnowphila.org/capitalnow/
CONTACT:
ORGANIZER:En Route Marketing
ATTACH;FMTTYPE="image/jpeg":https://storage.ning.com/topology/rest/1.0
 /file/get/9722682885?profile=original
ATTENDEE;ROLE=REQ-PARTICIPANT;PARTSTAT=ACCEPTED;RSVP=TRUE;CN="Bryan Ch
 an":http://phillytodo.com/profile/BryanChan
END:VEVENT
END:VCALENDAR
