BEGIN:VCALENDAR
PRODID:NingEventWidget-v1
VERSION:2.0
METHOD:PUBLISH
BEGIN:VEVENT
UID:4320450:Event:41211
DTSTAMP:20260425T173728Z
SUMMARY:Cape May County Barefoot Beer Festival
DESCRIPTION:Get ready for Cape May County's Barefoot Beer Festival! Im
 agine sipping amazing craft beers listening & watching the waves break
  50 yards away on the beautiful private beach of Icona Resorts Diamond
  Beach.  You & your friends have to join us for this unique experienc
 e!  50+ breweries will showcase their one of a kind brews.  For this
  event, you'll enjoy unlimited pours of tons of specialty craft beers 
 in your own keepsake sampling glass.  NOTE:  You do not need to be s
 taying at the Icona Hotel to attend this festival.  However, if you n
 eed a room, please book well in advance as rooms will sell out.\n \nT
 here will be two sessions for you to choose from: 12:00-3:30pm, and 
 4:30-8:00pm\n\n.  Food prepared from our world-class chefs is include
 d - everyone will receive 2 food tickets.  In addition to a great tim
 e sampling craft beers, this event also caters to the educational side
  of brewing beers.  Each session will include a 30-minute program, \"
 The Magic of Hops\", which features an exploration of the history of h
 ops.  So put your toes in the sand and a cold beer in your hand, we'l
 l see you July 11th!  Designated Driver tickets are available.\n\nTi
 ckets & MoreInfo: \n http://www.upcomingevents.com/e/cape-may-county
 -barefoot-beer-festival-22605/?ref=ptodo\n\n\nFor more information vis
 it http://phillytodo.com/events/cape-may-county-barefoot-beer-festival
DTSTART:20150711T160000Z
DTEND:20150712T000000Z
CATEGORIES:festival
LOCATION:Icona Resorts Diamond Beach
WEBSITE:http://www.upcomingevents.com/e/cape-may-county-barefoot-beer-
 festival-22605/?ref=ptodo
URL:http://www.upcomingevents.com/e/cape-may-county-barefoot-beer-fest
 ival-22605/?ref=ptodo
CONTACT:(609) 729-6600
ORGANIZER;CN="UpcomingEvents.com":http://phillytodo.com/profile/Upcomi
 ngEventscom
ATTACH;FMTTYPE="image/jpeg":http://storage.ning.com/topology/rest/1.0/
 file/get/3054988250?profile=original
ATTENDEE;ROLE=REQ-PARTICIPANT;PARTSTAT=ACCEPTED;RSVP=TRUE;CN="Upcoming
 Events.com":http://phillytodo.com/profile/UpcomingEventscom
END:VEVENT
END:VCALENDAR
