BEGIN:VCALENDAR
PRODID:NingEventWidget-v1
VERSION:2.0
METHOD:PUBLISH
BEGIN:VEVENT
UID:4320450:Event:34668
DTSTAMP:20260425T173737Z
SUMMARY:Candlelight Vigil for Homeless Youth
DESCRIPTION:Join us as we ignite hope for Philadelphia's homeless yout
 h. When you light a candle, you tell the world you care about the futu
 re of homeless youth and the local executives participating the the So
 lidarity Sleepout: Executive Edition. Learn more or donate by clicking
  this link- http://bit.ly/18Wjlp8. \n\nFor more information visit ht
 tp://phillytodo.com/events/candlelight-vigil-for-homeless-youth
DTSTART:20131121T230000Z
DTEND:20131122T000000Z
CATEGORIES:community, rally
LOCATION:Covenant House Pennsylvania
WEBSITE:
URL:
CONTACT:
ORGANIZER:
ATTACH;FMTTYPE="image/jpeg":http://storage.ning.com/topology/rest/1.0/
 file/get/3054968013?profile=original
ATTENDEE;ROLE=REQ-PARTICIPANT;PARTSTAT=ACCEPTED;RSVP=TRUE;CN="Skai Blu
 e Media":http://phillytodo.com/profile/SkaiBlueMedia
END:VEVENT
END:VCALENDAR
