BEGIN:VCALENDAR
PRODID:NingEventWidget-v1
VERSION:2.0
METHOD:PUBLISH
BEGIN:VEVENT
UID:4320450:Event:33062
DTSTAMP:20260425T124919Z
SUMMARY:Camp Ladore Sendoff
DESCRIPTION:On Wednesday, July 31, Philadelphia children will board bu
 ses at The Salvation Army of Greater Philadelphia’s new City Operati
 ons Headquarters on Conshohocken Avenue and head to Camp Ladore in the
  Pocono Mountains of Pennsylvania for a week of overnight camping. For
  many, this is their only opportunity to experience life outside the c
 ity. Buses will depart between 8 and 9am.\n\nFor more information abou
 t this event visit: http://www.use.salvationarmy.org/use/www_use_phila
 delphiadhq.nsf/vw-dynamic-index/06420A155AE9271685257B98006FE6D9?openD
 ocument . \n\nDon’t forget to follow us on Twitter at @SalArmyPhill
 y  \n\nFor more information visit http://phillytodo.com/events/camp-l
 adore-sendoff
DTSTART:20130731T120000Z
DTEND:20130731T130000Z
CATEGORIES:sendoff, community, children
LOCATION:Salvation Army City Operations Headquarters
WEBSITE:http://www.use.salvationarmy.org/use/www_use_philadelphiadhq.n
 sf/vw-dynamic-index/06420A155AE9271685257B98006FE6D9?openDocument
URL:http://www.use.salvationarmy.org/use/www_use_philadelphiadhq.nsf/v
 w-dynamic-index/06420A155AE9271685257B98006FE6D9?openDocument
CONTACT:
ORGANIZER:The Salvation Army
ATTACH;FMTTYPE="image/jpeg":
ATTENDEE;ROLE=REQ-PARTICIPANT;PARTSTAT=ACCEPTED;RSVP=TRUE;CN="Jeremy K
 eys":http://phillytodo.com/profile/JeremyKeys
END:VEVENT
END:VCALENDAR
