BEGIN:VCALENDAR
PRODID:NingEventWidget-v1
VERSION:2.0
METHOD:PUBLISH
BEGIN:VEVENT
UID:4320450:Event:57506
DTSTAMP:20260425T141411Z
SUMMARY:Calm Confidence: Finding Your Unique Voice and Communicating w
 ith Ease
DESCRIPTION:Calm Confidence: Finding Your Unique Voice and Communicati
 ng with Ease is a Master Class with Tell Me A Story founder, Hillary R
 ea. This two hour workshop will help you to build confidence and elimi
 nate anxiety around presentations and public speaking. Learn how to pu
 ll from the strengths that you already have as a communicator and stor
 yteller. Address your pain points and dive into stage presence and min
 dfulness exercises that will allow you to take ownership of your voice
  and your story. We’ll also spend time working through the TMAS Publ
 ic Speaking Checklist and Storytelling Cheat Sheet. Leave this session
  with an action plan to put yourself out there with ease -- whether yo
 u are building relationships at a networking event, giving a presentat
 ion for your company, or leading a team meeting.\n\nSpace is limited t
 o 18 participants and advance registration is required.\n\nFor more in
 formation, and to register, please visit: https://www.tellmeastory.inf
 o/calm-confidence\n\nFor more information visit http://phillytodo.com/
 events/calm-confidence-finding-your-unique-voice-and-communicating-wit
 h
DTSTART:20190304T223000Z
DTEND:20190305T003000Z
CATEGORIES:workshop, "&amp", public, speaking
LOCATION:WeWork
WEBSITE:https://www.tellmeastory.info/calm-confidence
URL:https://www.tellmeastory.info/calm-confidence
CONTACT:267-797-8627
ORGANIZER;CN="Hillary Rea":http://phillytodo.com/profile/HillaryRea
ATTACH;FMTTYPE="image/jpeg":
ATTENDEE;ROLE=REQ-PARTICIPANT;PARTSTAT=ACCEPTED;RSVP=TRUE;CN="Hillary 
 Rea":http://phillytodo.com/profile/HillaryRea
END:VEVENT
END:VCALENDAR
