BEGIN:VCALENDAR
PRODID:NingEventWidget-v1
VERSION:2.0
METHOD:PUBLISH
BEGIN:VEVENT
UID:4320450:Event:50222
DTSTAMP:20260425T124855Z
SUMMARY:Cabaret
DESCRIPTION:Cabaret\nBook by Joe MasteroffBased on the play by John Va
 n Druten andStories by Christopher IsherwoodMusic by John KanderLyrics
  by Fred EbbOriginally Co-directed and Choreographed by Rob Marshall a
 nd Directed by Sam MendesDirected by Matthew DeckerSeptember 21 - Octo
 ber 22, 2017On the F. Otto Haas Stage \n\"There was a cabaret, and th
 ere was a Master-of-Ceremonies and there was a city called Berlin in a
  country called Germany. It was the end of the world...and I was danci
 ng with Sally Bowles and we were both asleep…\"Welcome to the Kit Ka
 t Club, the hottest nightspot in 1929's seedy and sinful Berlin. Ameri
 can writer Cliff Bradshaw travels to Germany in search of inspiration 
 and pleasure, and finds both in nightclub performer Sally Bowles. Howe
 ver, outside the club's doors, the Nazis' impending rise to power thre
 atens to splinter their decadent lifestyle. Featuring one of Broadway'
 s most memorable scores, Cabaret kicks off the Arden's 30th Annivers
 ary Season by transforming the F. Otto Haas Stage into the Kit Kat Clu
 b.\n\nFor more information visit http://phillytodo.com/events/cabaret
DTSTART:20170921T230000Z
DTEND:20171022T230000Z
CATEGORIES:musical, theatre, theater
LOCATION:Arden Theatre Company
WEBSITE:http://tickets.ardentheatre.org
URL:http://tickets.ardentheatre.org
CONTACT:215-922-1122
ORGANIZER:Philadelphia
ATTACH;FMTTYPE="image/jpeg":http://storage.ning.com/topology/rest/1.0/
 file/get/3055003397?profile=original
ATTENDEE;ROLE=REQ-PARTICIPANT;PARTSTAT=ACCEPTED;RSVP=TRUE;CN="Arden Th
 eatre Company":http://phillytodo.com/profile/ArdenTheatreCompany
END:VEVENT
END:VCALENDAR
