BEGIN:VCALENDAR
PRODID:NingEventWidget-v1
VERSION:2.0
METHOD:PUBLISH
BEGIN:VEVENT
UID:4320450:Event:74847
DTSTAMP:20260425T123538Z
SUMMARY:Cabaret of the Exiled
DESCRIPTION:Theatre Exile’s beloved cabaret event has returned from 
 Exile! Please join us for all of the fun and shenanigans you’ve come
  to expect from the Cabaret of the Exiled. The virtual fundraiser will
  support Theatre Exile’s free education and outreach programs, mains
 tage productions, and new play development efforts. Escape with us for
  an evening of performers, musicians, artists, theater collaborators, 
 mixologists, great raffle prizes and more!\n \nFeaturing\nMC R. Eric 
 Thomas Miss Martha Graham Cracker Kim Carson Christopher Colucci Jess 
 Conda Liz Filios Daniel Ison Dot Levine of Dottie’s Serenade Service
  Lindsay Smiling Daryl Hannah Anthony Martinez-Briggs\n\nFor more info
 rmation visit http://phillytodo.com/events/cabaret-of-the-exiled
DTSTART:20201028T230000Z
DTEND:20201029T010000Z
CATEGORIES:cabaret
LOCATION:Online
WEBSITE:https://theatreexile.org/events/cabaret-of-the-exiled/
URL:https://theatreexile.org/events/cabaret-of-the-exiled/
CONTACT:215-218-4022
ORGANIZER;CN="Bryan Chan":http://phillytodo.com/profile/BryanChan
ATTACH;FMTTYPE="image/jpeg":https://storage.ning.com/topology/rest/1.0
 /file/get/8028203490?profile=original
ATTENDEE;ROLE=REQ-PARTICIPANT;PARTSTAT=ACCEPTED;RSVP=TRUE;CN="Bryan Ch
 an":http://phillytodo.com/profile/BryanChan
END:VEVENT
END:VCALENDAR
