BEGIN:VCALENDAR
PRODID:NingEventWidget-v1
VERSION:2.0
METHOD:PUBLISH
BEGIN:VEVENT
UID:4320450:Event:38799
DTSTAMP:20260425T114224Z
SUMMARY:BYOB at Positano Coast
DESCRIPTION:Sundays and Mondays are perfect days to BYOB at Positano C
 oast! Please feel free to bring your own wine (only) every Sunday & Mo
 nday.\n\n*Available in the dining room only. Not valid on holidays, la
 rge parties, banquets or during Restaurant Weeks.\n\nFor more informat
 ion visit http://phillytodo.com/events/byob-at-positano-coast
DTSTART:20141130T173000Z
DTEND:20141230T033000Z
CATEGORIES:byob, drinks
LOCATION:Old City
WEBSITE:http://www.positanocoast.net
URL:http://www.positanocoast.net
CONTACT:(215)238-0499
ORGANIZER;CN="Positano Coast":http://phillytodo.com/profile/PositanoCo
 ast
ATTACH;FMTTYPE="image/jpeg":http://storage.ning.com/topology/rest/1.0/
 file/get/3054980422?profile=original
ATTENDEE;ROLE=REQ-PARTICIPANT;PARTSTAT=ACCEPTED;RSVP=TRUE;CN="Positano
  Coast":http://phillytodo.com/profile/PositanoCoast
END:VEVENT
END:VCALENDAR
