BEGIN:VCALENDAR
PRODID:NingEventWidget-v1
VERSION:2.0
METHOD:PUBLISH
BEGIN:VEVENT
UID:4320450:Event:48902
DTSTAMP:20260425T130615Z
SUMMARY:BYO Quizzo with Johnny Goodtimes
DESCRIPTION:Don’t miss Market & Shops at Comcast Center first BYO Qu
 izzo of 2017 with Johnny Goodtimes on Tuesday January 10th. Bring your
  favorite beer or wine and show off your trivia skills, 1st, 2nd, and 
 3rd place winners will receive prizes. \n\nFor more information visit
  http://phillytodo.com/events/byo-quizzo-with-johnny-goodtimes-5
DTSTART:20170110T223000Z
DTEND:20170111T003000Z
CATEGORIES:game, night
LOCATION:The Market & Shops at Comcast Center
WEBSITE:http://www.themarketandshopsatcomcastcenter.com
URL:http://www.themarketandshopsatcomcastcenter.com
CONTACT:
ORGANIZER;CN=CashmanAssoc:http://phillytodo.com/profile/CashmanAssoc
ATTACH;FMTTYPE="image/jpeg":http://storage.ning.com/topology/rest/1.0/
 file/get/3054997976?profile=original
ATTENDEE;ROLE=REQ-PARTICIPANT;PARTSTAT=ACCEPTED;RSVP=TRUE;CN=CashmanAs
 soc:http://phillytodo.com/profile/CashmanAssoc
END:VEVENT
END:VCALENDAR
