BEGIN:VCALENDAR
PRODID:NingEventWidget-v1
VERSION:2.0
METHOD:PUBLISH
BEGIN:VEVENT
UID:4320450:Event:47102
DTSTAMP:20260425T130616Z
SUMMARY:BYO Quizzo With Johnny Goodtimes
DESCRIPTION:Grab a team and join us at the Market and Shops at Comcast
  Center on Tuesday, August 9, for a riveting night of Quizzo with John
 ny Goodtimes! Bring your own beer or wine, we’ve got your bucket and
  ice covered! The winning team will receive a grand prize of $100!\n\n
 For more information visit http://phillytodo.com/events/byo-quizzo-wit
 h-johnny-goodtimes-4
DTSTART:20160809T213000Z
DTEND:20160809T233000Z
CATEGORIES:"quizzo/entertainment/byo/happy", hour
LOCATION:The Market & Shops at Comcast Center
WEBSITE:
URL:
CONTACT:215-627-1060
ORGANIZER;CN=CashmanAssoc:http://phillytodo.com/profile/CashmanAssoc
ATTACH;FMTTYPE="image/jpeg":http://storage.ning.com/topology/rest/1.0/
 file/get/3054997976?profile=original
ATTENDEE;ROLE=REQ-PARTICIPANT;PARTSTAT=ACCEPTED;RSVP=TRUE;CN=CashmanAs
 soc:http://phillytodo.com/profile/CashmanAssoc
END:VEVENT
END:VCALENDAR
