BEGIN:VCALENDAR
PRODID:NingEventWidget-v1
VERSION:2.0
METHOD:PUBLISH
BEGIN:VEVENT
UID:4320450:Event:46732
DTSTAMP:20260425T212723Z
SUMMARY:BYO Quizzo with Johnny Goodtimes
DESCRIPTION:Tuesday is the new Thursday! Please join us at the Market 
 & Shops at Comcast Center Tuesday, July 12th for B.Y.O Quizzo with Joh
 nny Goodtimes. Bring your favorite beer or wine and show off your triv
 ia skills! Winning team will receive a grand prize of $100 to the Mark
 et & Shops at Comcast Center. Event is free and open to the public.\n\
 nFor more information visit http://phillytodo.com/events/byo-quizzo-wi
 th-johnny-goodtimes-3
DTSTART:20160712T213000Z
DTEND:20160712T233000Z
CATEGORIES:game
LOCATION:Market & Shops at Comcast Center
WEBSITE:
URL:
CONTACT:
ORGANIZER:Market & Shops at Comcast Center
ATTACH;FMTTYPE="image/jpeg":
ATTENDEE;ROLE=REQ-PARTICIPANT;PARTSTAT=ACCEPTED;RSVP=TRUE;CN=CashmanAs
 soc:http://phillytodo.com/profile/CashmanAssoc
END:VEVENT
END:VCALENDAR
