BEGIN:VCALENDAR
PRODID:NingEventWidget-v1
VERSION:2.0
METHOD:PUBLISH
BEGIN:VEVENT
UID:4320450:Event:46984
DTSTAMP:20260425T125756Z
SUMMARY:Buzzer by Tracey Scott Wilson
DESCRIPTION:Theatre Exile presents the Philadelphia premiere of Buzzer
  by Buzzer by Tracey Scott Wilson  from May 4  to 28, 2017, at Studi
 o X (1340 S. 13th Street). Jackson, an upwardly-mobile black attorney,
  has just bought an apartment in a transitioning neighborhood in Brook
 lyn. He sees the potential of his old neighborhood, as does his white 
 girlfriend Suzy…at first. When Jackson’s childhood friend Don leav
 es rehab to crash with them, the trio quickly becomes trapped between 
 the tensions inside their own home and the dangers that may lurk outsi
 de. Directed by Matt Pfeiffer. Tickets are on sale now for $10 to $50 
 by visiting www.theatreexile.org or calling 215-218-4022.\n\nFor more 
 information visit http://phillytodo.com/events/buzzer-by-tracey-scott-
 wilson
DTSTART:20170504T230000Z
DTEND:20170528T210000Z
CATEGORIES:play
LOCATION:Studio X
WEBSITE:http://1340 S. 13th Street
URL:http://1340 S. 13th Street
CONTACT:(215) 218-4022
ORGANIZER;CN="Aversa PR & Events":http://phillytodo.com/profile/KoryAv
 ersa277
ATTACH;FMTTYPE="image/jpeg":http://storage.ning.com/topology/rest/1.0/
 file/get/3054998638?profile=original
ATTENDEE;ROLE=REQ-PARTICIPANT;PARTSTAT=ACCEPTED;RSVP=TRUE;CN="Aversa P
 R & Events":http://phillytodo.com/profile/KoryAversa277
END:VEVENT
END:VCALENDAR
