BEGIN:VCALENDAR
PRODID:NingEventWidget-v1
VERSION:2.0
METHOD:PUBLISH
BEGIN:VEVENT
UID:4320450:Event:47906
DTSTAMP:20260425T143320Z
SUMMARY:BUY NOW: The Psychology of Human Behavior and Purchasing
DESCRIPTION:Learn how to increase your sales! Join us for this insight
 ful talk on the psychology of purchasing and consumer behavior with ou
 r panel of marketing experts. This program features Jami Slotnick, Co-
 founder of 1010 Creative, Michael Solomon, Professor of Marketing, Hau
 b School of Business, Saint Joesph's University and Denise Dahlhoff, R
 esearch Director, Jay H. Baker Retailing Center at Wharton with discus
 sion regarding strategies to increase sales and learn about the psycho
 logy of purchasing and consumer behavior.\n\nFor tickets: \nhttps://w
 ww.eventbrite.com/e/buy-now-the-psychology-of-human-behavior-and-purch
 asing-public-program-tickets-28606835816\n\nFor more information visit
  http://phillytodo.com/events/buy-now-the-psychology-of-human-behavior
 -and-purchasing
DTSTART:20161110T230000Z
DTEND:20161111T010000Z
CATEGORIES:panel
LOCATION:Benjamin's Desk
WEBSITE:https://benjaminsdesk.com
URL:https://benjaminsdesk.com
CONTACT:(267) 765-2070
ORGANIZER;CN=CashmanAssoc:http://phillytodo.com/profile/CashmanAssoc
ATTACH;FMTTYPE="image/jpeg":http://storage.ning.com/topology/rest/1.0/
 file/get/3054998961?profile=original
ATTENDEE;ROLE=REQ-PARTICIPANT;PARTSTAT=ACCEPTED;RSVP=TRUE;CN=CashmanAs
 soc:http://phillytodo.com/profile/CashmanAssoc
END:VEVENT
END:VCALENDAR
