BEGIN:VCALENDAR
PRODID:NingEventWidget-v1
VERSION:2.0
METHOD:PUBLISH
BEGIN:VEVENT
UID:4320450:Event:33373
DTSTAMP:20260425T144241Z
SUMMARY:\"Burnt Sienna\" Performs on Concert Stage
DESCRIPTION:Join us for Philly's BIGGEST party as \"Burnt Sienna\" per
 forms live on the outdoor concert stage starting at 8pm.Contact partie
 s@xfinitylive.com to add your name to the guest list and to book your 
 VIP Party during the show.Free parking is available after 8:05PM.\n\nF
 or more information visit http://phillytodo.com/events/burnt-sienna-pe
 rforms-on-concert-stage
DTSTART:20130803T000000Z
DTEND:20130803T040000Z
CATEGORIES:live, music
LOCATION:XFINITY Live! Philadelphia
WEBSITE:http://www.xfinitylive.com/
URL:http://www.xfinitylive.com/
CONTACT:215-609-1678
ORGANIZER;CN="Stepfanie McCaffrey":http://phillytodo.com/profile/Stepf
 anieMcCaffrey
ATTACH;FMTTYPE="image/jpeg":http://storage.ning.com/topology/rest/1.0/
 file/get/3054967238?profile=original
ATTENDEE;ROLE=REQ-PARTICIPANT;PARTSTAT=ACCEPTED;RSVP=TRUE;CN="Stepfani
 e McCaffrey":http://phillytodo.com/profile/StepfanieMcCaffrey
END:VEVENT
END:VCALENDAR
