BEGIN:VCALENDAR
PRODID:NingEventWidget-v1
VERSION:2.0
METHOD:PUBLISH
BEGIN:VEVENT
UID:4320450:Event:769
DTSTAMP:20260425T144252Z
SUMMARY:Burlesque Erotic Fiction Writing Workshop
DESCRIPTION:March 13, 2010\n1-4pm\n954 DMC Studio\n954 N 8th Street, N
 o. Libs, Philadelphia 19123\n\"Burlesque Erotic Fiction Writing Worksh
 op\"-- For one day POP Fizz Burlesque abandons our dancing to bring yo
 ur a Burlesque-inspired writing workshop. In this workshop, you will l
 earn how to create your Burlesque character and will delve deeply into
  the world of erotic fiction with this revealing workshop. You'll take
  your alter-ego Burlesque persona on a journey through erotic adventur
 es and sharpen your writing skills in the process. No previous experie
 nce is necessary and this workshop is available for all women.\n\nFor 
 more information visit http://phillytodo.com/events/burlesque-erotic-f
 iction
DTSTART:20100313T180000Z
DTEND:20100313T210000Z
CATEGORIES:burlesque, erotic, fiction, workshop
LOCATION:954 DMC
WEBSITE:http://www.popfizzburlesque.com
URL:http://www.popfizzburlesque.com
CONTACT:267.217.3499
ORGANIZER;CN="POP Fizz Burlesque":http://phillytodo.com/profile/POPFiz
 zBurlesque
ATTACH;FMTTYPE="image/jpeg":http://storage.ning.com/topology/rest/1.0/
 file/get/3054943286?profile=original
ATTENDEE;ROLE=REQ-PARTICIPANT;PARTSTAT=ACCEPTED;RSVP=TRUE;CN="POP Fizz
  Burlesque":http://phillytodo.com/profile/POPFizzBurlesque
END:VEVENT
END:VCALENDAR
