BEGIN:VCALENDAR
PRODID:NingEventWidget-v1
VERSION:2.0
METHOD:PUBLISH
BEGIN:VEVENT
UID:4320450:Event:24909
DTSTAMP:20260425T175711Z
SUMMARY:burger club february meeting at Royal Tavern
DESCRIPTION:We're meeting at the Royal Tavern this month!\n\nFor more 
 information visit http://phillytodo.com/events/burger-club-february-me
 eting-at-royal-tavern
DTSTART:20120229T233000Z
DTEND:20120301T020000Z
CATEGORIES:club, meeting
LOCATION:The Royal Tavern
WEBSITE:
URL:
CONTACT:
ORGANIZER;CN="Burger Club PHL":http://phillytodo.com/profile/BurgerClu
 bPHL
ATTACH;FMTTYPE="image/jpeg":http://storage.ning.com/topology/rest/1.0/
 file/get/3054958243?profile=original
ATTENDEE;ROLE=REQ-PARTICIPANT;PARTSTAT=ACCEPTED;RSVP=TRUE;CN="Burger C
 lub PHL":http://phillytodo.com/profile/BurgerClubPHL
END:VEVENT
END:VCALENDAR
