BEGIN:VCALENDAR
PRODID:NingEventWidget-v1
VERSION:2.0
METHOD:PUBLISH
BEGIN:VEVENT
UID:4320450:Event:46327
DTSTAMP:20260425T132529Z
SUMMARY:Burger Brawl
DESCRIPTION:The date is set for the 6th Annual PHILADELPHIA BURGER BRA
 WL.The main event will be held on SUNDAY, JUNE 26TH 4:00pm-7:00pm at X
 FINITY Live!The Philadelphia Burger Brawl funds literacy programming t
 hrough technology for Philadelphia Public Schools. Come taste the crea
 tions from over 60 Philadelphia area restaurants!Cast your vote for wh
 o has the best burger and new to this year's event, WHO HAS THE BEST T
 ACO...as we proudly introduce the Philadelphia Taco Brawl.We invite yo
 u to join us for this special day of fun and competition as we see who
  has what it takes to win this annual outdoor food challenge!GA ticket
 s include: Enjoy unlimited samples from the 60 best burgers and tacos 
 in Philadelphia and vote for your favorite. Sample burgers from restau
 rants like Village Whiskey, Fat Ham, Blue Duck Sandwich Co. Butcher & 
 Singer and tacos from El Vez, Revolution Taco, Buena Onda and more!!! 
 All GA tickets include 1 free alcoholic drink.VIP tickets include: Enj
 oy early access at 3:00pm, a 1st class open bar and taste unlimited sa
 mples of the 60 top restaurants. Mix and mingle with celebrity judges 
 like…..WMMR's Steve Morrison, former Philadelphia Phillie Garry Madd
 ox..Fox Good Day’s Mike Jerrick and more!General Admission (21 and U
 nder): Enjoy unlimited samples from the 60 best burgers and taco in Ph
 iladelphia and vote for your favorite. Sample burgers from restaurants
  like Village Whiskey, Fat Ham, Blue Duck Sandwich Co. Butcher & Singe
 r and tacos from El Vez, Revolution Taco, Buena Onda and more!VIP door
 s open 3pm. GA doors open 4pm. - See more at: http://www.xfinitylive.c
 om/entertainment/event/8039#sthash.kpeP4TCu.dpuf\n\nFor more informati
 on visit http://phillytodo.com/events/burger-brawl
DTSTART:20160626T200000Z
DTEND:20160626T230000Z
CATEGORIES:burger, brawl
LOCATION:XFINITY Live!
WEBSITE:http://www.xfinitylive.com/entertainment/event/8039
URL:http://www.xfinitylive.com/entertainment/event/8039
CONTACT:
ORGANIZER;CN="XFINITY Live! Philadelphia":http://phillytodo.com/profil
 e/XFINITYLivePhiladelphia
ATTACH;FMTTYPE="image/jpeg":http://storage.ning.com/topology/rest/1.0/
 file/get/3054995513?profile=original
ATTENDEE;ROLE=REQ-PARTICIPANT;PARTSTAT=ACCEPTED;RSVP=TRUE;CN="XFINITY 
 Live! Philadelphia":http://phillytodo.com/profile/XFINITYLivePhiladelp
 hia
END:VEVENT
END:VCALENDAR
