BEGIN:VCALENDAR
PRODID:NingEventWidget-v1
VERSION:2.0
METHOD:PUBLISH
BEGIN:VEVENT
UID:4320450:Event:54792
DTSTAMP:20260425T113257Z
SUMMARY:Burger Brawl 2018
DESCRIPTION:The date is set for the 8th Annual PHILADELPHIA BURGER BRA
 WL.The main event will be held on Sunday, June 6 at 3pm at XFINITY Liv
 e! The Philadelphia Burger Brawl funds literacy programming through te
 chnology for Philadelphia Public Schools.  Come taste the creations f
 rom over 60 Philadelphia area restaurants!We invite you to join us for
  this special day of fun and competition as we see who has what it tak
 es to win this annual outdoor food challenge!GA tickets include:Enjoy 
 unlimited samples from over 60 of the best burgers and tacos in Philad
 elphia and vote for your favorite. Sample burgers from restaurants lik
 e James, Twisted Tail, Parc, and Rouge and tacos from 1100 Social, Lol
 ita, Loco Pez and more!!! All General Admission tickets include 1 free
  alcoholic drink.VIP tickets include: Enjoy early access at 1:00 pm, a
  first class open bar and taste unlimited samples of the 60 top restau
 rants. Mix and mingle with celebrity judges.Plus, a special performanc
 e from Country Star Chase Rice!VIP doors open 1pm. GA doors open 2pm.E
 vent is all ages and is RAIN OR SHINE.\n\nFor more information visit h
 ttp://phillytodo.com/events/burger-brawl-2018
DTSTART:20180603T180000Z
DTEND:20180603T210000Z
CATEGORIES:food
LOCATION:XFINITY Live! Philadelphia
WEBSITE:https://eventsplus.cbsradio.com/philadelphia/wip/e/philadelphi
 a-burger-brawl-2018/tickets
URL:https://eventsplus.cbsradio.com/philadelphia/wip/e/philadelphia-bu
 rger-brawl-2018/tickets
CONTACT:
ORGANIZER;CN="XFINITY Live! Philadelphia":http://phillytodo.com/profil
 e/XFINITYLivePhiladelphia
ATTACH;FMTTYPE="image/jpeg":http://storage.ning.com/topology/rest/1.0/
 file/get/3055011255?profile=original
ATTENDEE;ROLE=REQ-PARTICIPANT;PARTSTAT=ACCEPTED;RSVP=TRUE;CN="XFINITY 
 Live! Philadelphia":http://phillytodo.com/profile/XFINITYLivePhiladelp
 hia
END:VEVENT
END:VCALENDAR
