BEGIN:VCALENDAR
PRODID:NingEventWidget-v1
VERSION:2.0
METHOD:PUBLISH
BEGIN:VEVENT
UID:4320450:Event:39917
DTSTAMP:20260425T124906Z
SUMMARY:Bullies Night Out
DESCRIPTION:Join us inside Broad Street Bullies for Bullies Night Out 
 on Tuesday, Jan. 20th at 4pm.Experience a Meet & Greet experience with
  former Bullies, Bernie Parent, Bob Kelly and Dave Schultz before the 
 Flyers home game against the Penguins.Enjoy $3 select drafts during th
 e Flyers game. Reservations are highly encouraged. \n\nFor more info
 rmation visit http://phillytodo.com/events/bullies-night-out
DTSTART:20150120T210000Z
DTEND:20150120T230000Z
CATEGORIES:meet, "&", greet, hockey, flyers
LOCATION:XFINITY Live! Philadelphia
WEBSITE:http://www.xfinitylive.com/entertainment/event/3964
URL:http://www.xfinitylive.com/entertainment/event/3964
CONTACT:2674436415
ORGANIZER;CN="XFINITY Live! Philadelphia":http://phillytodo.com/profil
 e/XFINITYLivePhiladelphia
ATTACH;FMTTYPE="image/jpeg":http://storage.ning.com/topology/rest/1.0/
 file/get/3054987562?profile=original
ATTENDEE;ROLE=REQ-PARTICIPANT;PARTSTAT=ACCEPTED;RSVP=TRUE;CN="XFINITY 
 Live! Philadelphia":http://phillytodo.com/profile/XFINITYLivePhiladelp
 hia
END:VEVENT
END:VCALENDAR
