BEGIN:VCALENDAR
PRODID:NingEventWidget-v1
VERSION:2.0
METHOD:PUBLISH
BEGIN:VEVENT
UID:4320450:Event:168409
DTSTAMP:20260425T115813Z
SUMMARY:Bulldog Yoga pop-up presented by NovaCare King of Prussia
DESCRIPTION:Bulldog Yoga, in partnership with NovaCare, will pop up on
  the Town Center greenspace Tuesday, July 13 at 12 p.m. Participants c
 an join instructor Nikki Rowinski from Bulldog Yoga for a FREE hour of
  fitness-fueled, music-based yoga. All levels are welcome to participa
 te, just remember to bring a mat!\n\nNovaCare will be onsite providing
  waters and snacks to attendees, plus exclusive access to a physical t
 herapist who can provide physical health advice before and after the c
 lass.\n\nRegistration is required—visit the link provided to sign up
 !\n\nFor more information visit http://phillytodo.com/events/bulldog-y
 oga-pop-up-presented-by-novacare-king-of-prussia
DTSTART:20210713T160000Z
DTEND:20210713T170000Z
CATEGORIES:yoga, fitness, class
LOCATION:King of Prussia Town Center
WEBSITE:https://clients.mindbodyonline.com/classic/ws?studioid=246272&
 amp;stype=-7&amp;sTG=23&amp;sVT=20&amp;sView=day&amp;sLoc=0&amp;sTrn=1
 00000100&amp;date=07/13/21
URL:https://clients.mindbodyonline.com/classic/ws?studioid=246272&amp;
 stype=-7&amp;sTG=23&amp;sVT=20&amp;sView=day&amp;sLoc=0&amp;sTrn=10000
 0100&amp;date=07/13/21
CONTACT:
ORGANIZER:King of Prussia Town Center
ATTACH;FMTTYPE="image/jpeg":https://storage.ning.com/topology/rest/1.0
 /file/get/9236752078?profile=original
ATTENDEE;ROLE=REQ-PARTICIPANT;PARTSTAT=ACCEPTED;RSVP=TRUE;CN=CashmanAs
 soc:http://phillytodo.com/profile/CashmanAssoc
END:VEVENT
END:VCALENDAR
