BEGIN:VCALENDAR
PRODID:NingEventWidget-v1
VERSION:2.0
METHOD:PUBLISH
BEGIN:VEVENT
UID:4320450:Event:45117
DTSTAMP:20260425T173711Z
SUMMARY:Build Your Own Coldframe and Season Extension Workshop
DESCRIPTION:Winter got you down? Defrost those cold thoughts by planni
 ng for spring greening. Whether itâ€™s made of straw bales or reclaime
 d wood, a cold frame is great way to start the growing season early or
  extend it into the fall. Get your garden off to an early start with a
  workshop, in collaboration with Penn State farmers and educators.Â We
 â€™ll tour a hoop house and learn how to Â build a cold frame on a bud
 get, as well as learn successful growing techniques to ensure a bounti
 ful harvest. Participants will leave with a completed cold frame. Weâ€
 ™ll provide some tools, but please bring your own if you can. Â Pre-re
 gistration required.\nMember price: $35\n\nFor more information visit 
 http://phillytodo.com/events/build-your-own-coldframe-and-season-exten
 sion-workshop
DTSTART:20160227T150000Z
DTEND:20160227T170000Z
CATEGORIES:workshop
LOCATION:The Schuylkill Center for Environmental Education
WEBSITE:http://www.schuylkillcenter.org/blog/event/build-your-own-cold
 -frame-and-season-extension-workshop/
URL:http://www.schuylkillcenter.org/blog/event/build-your-own-cold-fra
 me-and-season-extension-workshop/
CONTACT:215-482-7300
ORGANIZER:The Schuylkill Center for Environmental Education
ATTACH;FMTTYPE="image/jpeg":
ATTENDEE;ROLE=REQ-PARTICIPANT;PARTSTAT=ACCEPTED;RSVP=TRUE;CN="The Schu
 ylkill Center":http://phillytodo.com/profile/AnnaLehrMueser
END:VEVENT
END:VCALENDAR
